|SUCCESS| pw123812-123821 [PATCH] [v4, 10/10] doc: update DTS setup and test suite cookbook
dpdklab at iol.unh.edu
dpdklab at iol.unh.edu
Tue Feb 14 04:17:55 CET 2023
Test-Label: iol-testing
Test-Status: SUCCESS
http://dpdk.org/patch/123821
_Testing PASS_
Submitter: Juraj Linkeš <juraj.linkes at pantheon.tech>
Date: Monday, February 13 2023 15:28:46
DPDK git baseline: Repo:dpdk
Branch: master
CommitID:39d469a7eb4f157923be73aea0b0cc1015860ca7
123812-123821 --> testing pass
Test environment and result as below:
+-------------------------------+----------------+
| Environment | dpdk_unit_test |
+===============================+================+
| Ubuntu 20.04 ARM GCC Native | PASS |
+-------------------------------+----------------+
| Ubuntu 20.04 ARM Clang Native | PASS |
+-------------------------------+----------------+
| Windows Server 2019 | PASS |
+-------------------------------+----------------+
| RHEL 7 | PASS |
+-------------------------------+----------------+
Ubuntu 20.04 ARM GCC Native
Kernel: 5.4.0-53-generic
Compiler: gcc 9.3
Ubuntu 20.04 ARM Clang Native
Kernel: 5.4.0-53-generic
Compiler: clang 10.0.0-4ubuntu1
Windows Server 2019
Kernel: 10.0
Compiler: clang 14.0 and gcc 8.1.0 (MinGW)
RHEL 7
Kernel: 4.18.0-240.10.1.el8_3.x86_64
Compiler: gcc 4.8.5 20150623 (Red Hat 4.8.5-44)
To view detailed results, visit:
https://lab.dpdk.org/results/dashboard/patchsets/25380/
UNH-IOL DPDK Community Lab
To manage your email subscriptions, visit:
https://lab.dpdk.org/results/dashboard/preferences/subscriptions/
More information about the test-report
mailing list