|SUCCESS| pw123847 [PATCH] [v3] ethdev: telemetry xstats support hide zero

dpdklab at iol.unh.edu dpdklab at iol.unh.edu
Tue Feb 14 09:08:10 CET 2023


Test-Label: iol-testing
Test-Status: SUCCESS
http://dpdk.org/patch/123847

_Testing PASS_

Submitter: Chengwen Feng <fengchengwen at huawei.com>
Date: Tuesday, February 14 2023 01:35:06 
DPDK git baseline: Repo:dpdk
  Branch: master
  CommitID:39d469a7eb4f157923be73aea0b0cc1015860ca7

123847 --> testing pass

Test environment and result as below:

+---------------------+----------------+
|     Environment     | dpdk_unit_test |
+=====================+================+
| Windows Server 2019 | PASS           |
+---------------------+----------------+
| Debian Buster       | PASS           |
+---------------------+----------------+
| Ubuntu 22.04        | PASS           |
+---------------------+----------------+
| Ubuntu 20.04        | PASS           |
+---------------------+----------------+
| RHEL 7              | PASS           |
+---------------------+----------------+


Windows Server 2019
	Kernel: 10.0
	Compiler: clang 14.0 and gcc 8.1.0 (MinGW)

Debian Buster
	Kernel: 5.4.0-122-generic
	Compiler: gcc 8.3.0-6

Ubuntu 22.04
	Kernel: Container Host Kernel
	Compiler: gcc 11.3.1-2

Ubuntu 20.04
	Kernel: 4.18.0-240.10.1.el8_3.x86_64
	Compiler: gcc 9.3.0-17ubuntu1~20.04

RHEL 7
	Kernel: 4.18.0-240.10.1.el8_3.x86_64
	Compiler: gcc 4.8.5 20150623 (Red Hat 4.8.5-44)

To view detailed results, visit:
https://lab.dpdk.org/results/dashboard/patchsets/25384/

UNH-IOL DPDK Community Lab

To manage your email subscriptions, visit: 
https://lab.dpdk.org/results/dashboard/preferences/subscriptions/


More information about the test-report mailing list