|SUCCESS| [GIT MASTER] 04ed18cd41f12ea1487581731ef56185d902d827

dpdklab at iol.unh.edu dpdklab at iol.unh.edu
Wed Feb 15 00:57:19 CET 2023


_Testing PASS_

Branch: dpdk

04ed18cd41f12ea1487581731ef56185d902d827 --> testing pass

Test environment and result as below:

+-----------------+----------------------------------+
|   Environment   | dpdk_kmod_compile_torvalds_linux |
+=================+==================================+
| Debian Buster   | PASS                             |
+-----------------+----------------------------------+
| Debian Bullseye | PASS                             |
+-----------------+----------------------------------+
| Ubuntu 22.04    | PASS                             |
+-----------------+----------------------------------+
| CentOS Stream 8 | PASS                             |
+-----------------+----------------------------------+
| CentOS Stream 9 | PASS                             |
+-----------------+----------------------------------+


Debian Buster
	Kernel: 5.4.0-122-generic
	Compiler: gcc 8.3.0-6

Debian Bullseye
	Kernel: 5.4.0-122-generic
	Compiler: gcc 10.2.1-6

Ubuntu 22.04
	Kernel: Container Host Kernel
	Compiler: clang 14.0.5-1.fc36

CentOS Stream 8
	Kernel: 4.18.0-240.10.1.el8_3.x86_64
	Compiler: gcc 8.4.1 20200928

CentOS Stream 9
	Kernel: 4.18.0-240.10.1.el8_3.x86_64
	Compiler: gcc 11.3.1 20220421

To view detailed results, visit:
https://lab.dpdk.org/results/dashboard/tarballs/23321/

UNH-IOL DPDK Community Lab

To manage your email subscriptions, visit: 
https://lab.dpdk.org/results/dashboard/preferences/subscriptions/


More information about the test-report mailing list