|SUCCESS| pw124094-124095 [PATCH] [2/2] net/gve: add extended statistics

dpdklab at iol.unh.edu dpdklab at iol.unh.edu
Fri Feb 17 01:14:48 CET 2023


Test-Label: iol-testing
Test-Status: SUCCESS
http://dpdk.org/patch/124095

_Testing PASS_

Submitter: Levend Sayar <levendsayar at gmail.com>
Date: Thursday, February 16 2023 18:58:14 
DPDK git baseline: Repo:dpdk
  Branch: master
  CommitID:01314192b7856d3737eb6d80aa351f60a07631af

124094-124095 --> testing pass

Test environment and result as below:

+---------------------+----------------+
|     Environment     | dpdk_unit_test |
+=====================+================+
| Windows Server 2019 | PASS           |
+---------------------+----------------+
| RHEL 7              | PASS           |
+---------------------+----------------+
| Ubuntu 22.04        | PASS           |
+---------------------+----------------+


Windows Server 2019
	Kernel: 10.0
	Compiler: clang 14.0 and gcc 8.1.0 (MinGW)

RHEL 7
	Kernel: 4.18.0-240.10.1.el8_3.x86_64
	Compiler: gcc 4.8.5 20150623 (Red Hat 4.8.5-44)

Ubuntu 22.04
	Kernel: Container Host Kernel
	Compiler: gcc 11.3.1-2

To view detailed results, visit:
https://lab.dpdk.org/results/dashboard/patchsets/25431/

UNH-IOL DPDK Community Lab

To manage your email subscriptions, visit: 
https://lab.dpdk.org/results/dashboard/preferences/subscriptions/


More information about the test-report mailing list