|SUCCESS| [GIT MASTER] 8a3ef4b89e6dd0247355fdf3a77ff7ec1db28d8d

dpdklab at iol.unh.edu dpdklab at iol.unh.edu
Fri Feb 17 01:39:21 CET 2023


_Testing PASS_

Branch: dpdk

8a3ef4b89e6dd0247355fdf3a77ff7ec1db28d8d --> testing pass

Test environment and result as below:

+-----------------+----------------------------------+
|   Environment   | dpdk_kmod_compile_torvalds_linux |
+=================+==================================+
| Debian Buster   | PASS                             |
+-----------------+----------------------------------+
| CentOS Stream 8 | PASS                             |
+-----------------+----------------------------------+
| CentOS Stream 9 | PASS                             |
+-----------------+----------------------------------+


Debian Buster
	Kernel: 5.4.0-122-generic
	Compiler: gcc 8.3.0-6

CentOS Stream 8
	Kernel: 4.18.0-240.10.1.el8_3.x86_64
	Compiler: gcc 8.4.1 20200928

CentOS Stream 9
	Kernel: 4.18.0-240.10.1.el8_3.x86_64
	Compiler: gcc 11.3.1 20220421

To view detailed results, visit:
https://lab.dpdk.org/results/dashboard/tarballs/23363/

UNH-IOL DPDK Community Lab

To manage your email subscriptions, visit: 
https://lab.dpdk.org/results/dashboard/preferences/subscriptions/


More information about the test-report mailing list