|SUCCESS| pw124137 [PATCH] devtools: improve output of SPDX check
dpdklab at iol.unh.edu
dpdklab at iol.unh.edu
Fri Feb 17 23:32:07 CET 2023
Test-Label: iol-testing
Test-Status: SUCCESS
http://dpdk.org/patch/124137
_Testing PASS_
Submitter: Thomas Monjalon <thomas at monjalon.net>
Date: Friday, February 17 2023 21:25:31
DPDK git baseline: Repo:dpdk
Branch: master
CommitID:8a3ef4b89e6dd0247355fdf3a77ff7ec1db28d8d
124137 --> testing pass
Test environment and result as below:
+---------------------+----------------+
| Environment | dpdk_unit_test |
+=====================+================+
| Windows Server 2019 | PASS |
+---------------------+----------------+
| RHEL 7 | PASS |
+---------------------+----------------+
| Debian Bullseye | PASS |
+---------------------+----------------+
Windows Server 2019
Kernel: 10.0
Compiler: clang 14.0 and gcc 8.1.0 (MinGW)
RHEL 7
Kernel: 4.18.0-240.10.1.el8_3.x86_64
Compiler: gcc 4.8.5 20150623 (Red Hat 4.8.5-44)
Debian Bullseye
Kernel: 5.4.0-122-generic
Compiler: gcc 10.2.1-6
To view detailed results, visit:
https://lab.dpdk.org/results/dashboard/patchsets/25445/
UNH-IOL DPDK Community Lab
To manage your email subscriptions, visit:
https://lab.dpdk.org/results/dashboard/preferences/subscriptions/
More information about the test-report
mailing list