|SUCCESS| pw124138-124140 [PATCH] [v2, 3/3] net/ark: resize data field to match fpga access

dpdklab at iol.unh.edu dpdklab at iol.unh.edu
Sat Feb 18 00:49:48 CET 2023


Test-Label: iol-testing
Test-Status: SUCCESS
http://dpdk.org/patch/124140

_Testing PASS_

Submitter: Ed Czeck <ed.czeck at atomicrules.com>
Date: Friday, February 17 2023 21:59:23 
DPDK git baseline: Repo:dpdk
  Branch: master
  CommitID:8a3ef4b89e6dd0247355fdf3a77ff7ec1db28d8d

124138-124140 --> testing pass

Test environment and result as below:

+---------------------+----------------+
|     Environment     | dpdk_unit_test |
+=====================+================+
| Windows Server 2019 | PASS           |
+---------------------+----------------+
| Debian Buster       | PASS           |
+---------------------+----------------+
| Ubuntu 20.04        | PASS           |
+---------------------+----------------+
| Ubuntu 22.04        | PASS           |
+---------------------+----------------+
| openSUSE Leap 15    | PASS           |
+---------------------+----------------+


Windows Server 2019
	Kernel: 10.0
	Compiler: clang 14.0 and gcc 8.1.0 (MinGW)

Debian Buster
	Kernel: 5.4.0-122-generic
	Compiler: gcc 8.3.0-6

Ubuntu 20.04
	Kernel: 4.18.0-240.10.1.el8_3.x86_64
	Compiler: gcc 9.3.0-17ubuntu1~20.04

Ubuntu 22.04
	Kernel: 4.18.0-240.10.1.el8_3.x86_64
	Compiler: gcc 11.3.0

openSUSE Leap 15
	Kernel: 4.18.0-240.10.1.el8_3.x86_64
	Compiler: gcc 7.5.0

To view detailed results, visit:
https://lab.dpdk.org/results/dashboard/patchsets/25446/

UNH-IOL DPDK Community Lab

To manage your email subscriptions, visit: 
https://lab.dpdk.org/results/dashboard/preferences/subscriptions/


More information about the test-report mailing list