|SUCCESS| pw123931 [PATCH] [v3] net/txgbe: fix Rx buffer size in configure register

dpdklab at iol.unh.edu dpdklab at iol.unh.edu
Sat Feb 18 03:10:14 CET 2023


Test-Label: iol-aarch64-unit-testing
Test-Status: SUCCESS
http://dpdk.org/patch/123931

_Testing PASS_

Submitter: Jiawen Wu <jiawenwu at trustnetic.com>
Date: Wednesday, February 15 2023 02:00:56 
DPDK git baseline: Repo:dpdk
  Branch: master
  CommitID:04ed18cd41f12ea1487581731ef56185d902d827

123931 --> testing pass

Test environment and result as below:

+----------------------+--------------+------------------------------+---------------------------+
|     Environment      | lpm_autotest | cryptodev_sw_snow3g_autotest | cryptodev_sw_zuc_autotest |
+======================+==============+==============================+===========================+
| Ubuntu 20.04 ARM SVE | PASS         | SKIPPED                      | SKIPPED                   |
+----------------------+--------------+------------------------------+---------------------------+
| Debian 11            | SKIPPED      | PASS                         | PASS                      |
+----------------------+--------------+------------------------------+---------------------------+


Ubuntu 20.04 ARM SVE
	Kernel: 5.4.0-80-generic
	Compiler: gcc 10.3.0 (Ubuntu 10.3.0-1ubuntu1~20.04)

Debian 11
	Kernel: Container Host Kernel
	Compiler: gcc 10.2.1

To view detailed results, visit:
https://lab.dpdk.org/results/dashboard/patchsets/25397/

UNH-IOL DPDK Community Lab

To manage your email subscriptions, visit: 
https://lab.dpdk.org/results/dashboard/preferences/subscriptions/


More information about the test-report mailing list