|SUCCESS| [GIT MASTER] 9dae7a15aea76313c592c11db44e1386e85f86fe

dpdklab at iol.unh.edu dpdklab at iol.unh.edu
Sat Feb 18 06:54:43 CET 2023


_Testing PASS_

Branch: tags/v22.11

9dae7a15aea76313c592c11db44e1386e85f86fe --> testing pass

Test environment and result as below:

+---------------------+----------------+
|     Environment     | dpdk_unit_test |
+=====================+================+
| Windows Server 2019 | PASS           |
+---------------------+----------------+
| Debian Buster       | PASS           |
+---------------------+----------------+
| Ubuntu 22.04        | PASS           |
+---------------------+----------------+


Windows Server 2019
	Kernel: 10.0
	Compiler: clang 14.0 and gcc 8.1.0 (MinGW)

Debian Buster
	Kernel: 5.4.0-122-generic
	Compiler: gcc 8.3.0-6

Ubuntu 22.04
	Kernel: Container Host Kernel
	Compiler: clang 14.0.5-1.fc36

To view detailed results, visit:
https://lab.dpdk.org/results/dashboard/tarballs/23385/

UNH-IOL DPDK Community Lab

To manage your email subscriptions, visit: 
https://lab.dpdk.org/results/dashboard/preferences/subscriptions/


More information about the test-report mailing list