|SUCCESS| [GIT MASTER] 34c8d1d3bef546f03159407a7af314176456d629

dpdklab at iol.unh.edu dpdklab at iol.unh.edu
Sun Feb 19 00:43:01 CET 2023


_Testing PASS_

Branch: dpdk

34c8d1d3bef546f03159407a7af314176456d629 --> testing pass

Test environment and result as below:

+-----------------+----------------------------------+
|   Environment   | dpdk_kmod_compile_torvalds_linux |
+=================+==================================+
| CentOS Stream 9 | PASS                             |
+-----------------+----------------------------------+
| CentOS Stream 8 | PASS                             |
+-----------------+----------------------------------+
| Ubuntu 20.04    | PASS                             |
+-----------------+----------------------------------+
| Ubuntu 22.04    | PASS                             |
+-----------------+----------------------------------+


CentOS Stream 9
	Kernel: 4.18.0-240.10.1.el8_3.x86_64
	Compiler: gcc 11.3.1 20220421

CentOS Stream 8
	Kernel: 4.18.0-240.10.1.el8_3.x86_64
	Compiler: gcc 8.4.1 20200928

Ubuntu 20.04
	Kernel: 4.18.0-240.10.1.el8_3.x86_64
	Compiler: gcc 9.3.0-17ubuntu1~20.04

Ubuntu 22.04
	Kernel: Container Host Kernel
	Compiler: gcc 11.3.1-2

To view detailed results, visit:
https://lab.dpdk.org/results/dashboard/tarballs/23387/

UNH-IOL DPDK Community Lab

To manage your email subscriptions, visit: 
https://lab.dpdk.org/results/dashboard/preferences/subscriptions/


More information about the test-report mailing list