|SUCCESS| pw124142 [PATCH] net/gve: fix Rx no mbufs stats counter update
dpdklab at iol.unh.edu
dpdklab at iol.unh.edu
Sun Feb 19 03:29:01 CET 2023
Test-Label: iol-testing
Test-Status: SUCCESS
http://dpdk.org/patch/124142
_Testing PASS_
Submitter: Levend Sayar <levendsayar at gmail.com>
Date: Sunday, February 19 2023 00:30:59
DPDK git baseline: Repo:dpdk
Branch: master
CommitID:34c8d1d3bef546f03159407a7af314176456d629
124142 --> testing pass
Test environment and result as below:
+---------------------+--------------------+----------------------+----------------+
| Environment | dpdk_meson_compile | dpdk_mingw64_compile | dpdk_unit_test |
+=====================+====================+======================+================+
| FreeBSD 13 | PASS | SKIPPED | SKIPPED |
+---------------------+--------------------+----------------------+----------------+
| Windows Server 2019 | PASS | PASS | PASS |
+---------------------+--------------------+----------------------+----------------+
| CentOS Stream 8 | SKIPPED | SKIPPED | PASS |
+---------------------+--------------------+----------------------+----------------+
FreeBSD 13
Kernel: 13.0
Compiler: clang 11.0.1
Windows Server 2019
Kernel: 10.0
Compiler: clang 14.0 and gcc 8.1.0 (MinGW)
CentOS Stream 8
Kernel: 4.18.0-240.10.1.el8_3.x86_64
Compiler: gcc 8.4.1 20200928
To view detailed results, visit:
https://lab.dpdk.org/results/dashboard/patchsets/25448/
UNH-IOL DPDK Community Lab
To manage your email subscriptions, visit:
https://lab.dpdk.org/results/dashboard/preferences/subscriptions/
More information about the test-report
mailing list