|SUCCESS| [GIT MASTER] 9dae7a15aea76313c592c11db44e1386e85f86fe

dpdklab at iol.unh.edu dpdklab at iol.unh.edu
Sun Feb 19 06:35:22 CET 2023


_Testing PASS_

Branch: tags/v22.11

9dae7a15aea76313c592c11db44e1386e85f86fe --> testing pass

Test environment and result as below:

+---------------------+--------------------+----------------------+----------------+
|     Environment     | dpdk_meson_compile | dpdk_mingw64_compile | dpdk_unit_test |
+=====================+====================+======================+================+
| Windows Server 2019 | PASS               | PASS                 | PASS           |
+---------------------+--------------------+----------------------+----------------+
| FreeBSD 13          | PASS               | SKIPPED              | SKIPPED        |
+---------------------+--------------------+----------------------+----------------+
| RHEL 7              | PASS               | SKIPPED              | SKIPPED        |
+---------------------+--------------------+----------------------+----------------+
| CentOS Stream 8     | SKIPPED            | SKIPPED              | PASS           |
+---------------------+--------------------+----------------------+----------------+
| Ubuntu 22.04        | SKIPPED            | SKIPPED              | PASS           |
+---------------------+--------------------+----------------------+----------------+


Windows Server 2019
	Kernel: 10.0
	Compiler: clang 14.0 and gcc 8.1.0 (MinGW)

FreeBSD 13
	Kernel: 13.0
	Compiler: clang 11.0.1

RHEL 7
	Kernel: 4.18.0-240.10.1.el8_3.x86_64
	Compiler: gcc 4.8.5 20150623 (Red Hat 4.8.5-44)

CentOS Stream 8
	Kernel: 4.18.0-240.10.1.el8_3.x86_64
	Compiler: gcc 8.4.1 20200928

Ubuntu 22.04
	Kernel: Container Host Kernel
	Compiler: gcc 12.2.1-2

To view detailed results, visit:
https://lab.dpdk.org/results/dashboard/tarballs/23390/

UNH-IOL DPDK Community Lab

To manage your email subscriptions, visit: 
https://lab.dpdk.org/results/dashboard/preferences/subscriptions/


More information about the test-report mailing list