|SUCCESS| pw124179-124180 [PATCH] [v6, 2/2] eal: add power mgmt support on Arm
dpdklab at iol.unh.edu
dpdklab at iol.unh.edu
Mon Feb 20 12:23:25 CET 2023
Test-Label: iol-testing
Test-Status: SUCCESS
http://dpdk.org/patch/124180
_Testing PASS_
Submitter: Feifei Wang <feifei.wang2 at arm.com>
Date: Monday, February 20 2023 08:51:09
DPDK git baseline: Repo:dpdk
Branch: master
CommitID:fc6bdd5248e843ba1300c8d46d43b263b4a69438
124179-124180 --> testing pass
Test environment and result as below:
+---------------------+--------------------+----------------------+----------------+
| Environment | dpdk_meson_compile | dpdk_mingw64_compile | dpdk_unit_test |
+=====================+====================+======================+================+
| FreeBSD 13 | PASS | SKIPPED | SKIPPED |
+---------------------+--------------------+----------------------+----------------+
| Windows Server 2019 | PASS | PASS | PASS |
+---------------------+--------------------+----------------------+----------------+
| CentOS Stream 8 | PASS | SKIPPED | SKIPPED |
+---------------------+--------------------+----------------------+----------------+
| Debian Buster | PASS | SKIPPED | SKIPPED |
+---------------------+--------------------+----------------------+----------------+
| Ubuntu 22.04 | PASS | SKIPPED | PASS |
+---------------------+--------------------+----------------------+----------------+
| CentOS Stream 9 | PASS | SKIPPED | SKIPPED |
+---------------------+--------------------+----------------------+----------------+
| Debian Bullseye | PASS | SKIPPED | SKIPPED |
+---------------------+--------------------+----------------------+----------------+
| openSUSE Leap 15 | PASS | SKIPPED | SKIPPED |
+---------------------+--------------------+----------------------+----------------+
FreeBSD 13
Kernel: 13.0
Compiler: clang 11.0.1
Windows Server 2019
Kernel: 10.0
Compiler: clang 14.0 and gcc 8.1.0 (MinGW)
CentOS Stream 8
Kernel: 4.18.0-240.10.1.el8_3.x86_64
Compiler: gcc 8.4.1 20200928
Debian Buster
Kernel: 5.4.0-122-generic
Compiler: gcc 8.3.0-6
Ubuntu 22.04
Kernel: Container Host Kernel
Compiler: clang 14.0.5-1.fc36
CentOS Stream 9
Kernel: 4.18.0-240.10.1.el8_3.x86_64
Compiler: gcc 11.3.1 20220421
Debian Bullseye
Kernel: 5.4.0-122-generic
Compiler: gcc 10.2.1-6
openSUSE Leap 15
Kernel: 4.18.0-240.10.1.el8_3.x86_64
Compiler: gcc 7.5.0
To view detailed results, visit:
https://lab.dpdk.org/results/dashboard/patchsets/25458/
UNH-IOL DPDK Community Lab
To manage your email subscriptions, visit:
https://lab.dpdk.org/results/dashboard/preferences/subscriptions/
More information about the test-report
mailing list