|SUCCESS| pw124181 [PATCH] [v2] net/nfp: fix 48-bit DMA address support for NFDk

dpdklab at iol.unh.edu dpdklab at iol.unh.edu
Mon Feb 20 13:19:09 CET 2023


Test-Label: iol-testing
Test-Status: SUCCESS
http://dpdk.org/patch/124181

_Testing PASS_

Submitter: Chaoyong He <chaoyong.he at corigine.com>
Date: Monday, February 20 2023 09:02:54 
DPDK git baseline: Repo:dpdk
  Branch: master
  CommitID:fc6bdd5248e843ba1300c8d46d43b263b4a69438

124181 --> testing pass

Test environment and result as below:

+---------------------+--------------------+----------------------+----------------+
|     Environment     | dpdk_meson_compile | dpdk_mingw64_compile | dpdk_unit_test |
+=====================+====================+======================+================+
| FreeBSD 13          | PASS               | SKIPPED              | SKIPPED        |
+---------------------+--------------------+----------------------+----------------+
| Windows Server 2019 | PASS               | PASS                 | PASS           |
+---------------------+--------------------+----------------------+----------------+
| CentOS Stream 8     | SKIPPED            | SKIPPED              | PASS           |
+---------------------+--------------------+----------------------+----------------+


FreeBSD 13
	Kernel: 13.0
	Compiler: clang 11.0.1

Windows Server 2019
	Kernel: 10.0
	Compiler: clang 14.0 and gcc 8.1.0 (MinGW)

CentOS Stream 8
	Kernel: 4.18.0-240.10.1.el8_3.x86_64
	Compiler: gcc 8.4.1 20200928

To view detailed results, visit:
https://lab.dpdk.org/results/dashboard/patchsets/25459/

UNH-IOL DPDK Community Lab

To manage your email subscriptions, visit: 
https://lab.dpdk.org/results/dashboard/preferences/subscriptions/


More information about the test-report mailing list