|SUCCESS| pw124188 [PATCH] [v2] net/gve: fix Rx no mbufs stats counter update

dpdklab at iol.unh.edu dpdklab at iol.unh.edu
Mon Feb 20 18:42:50 CET 2023


Test-Label: iol-testing
Test-Status: SUCCESS
http://dpdk.org/patch/124188

_Testing PASS_

Submitter: Levend Sayar <levendsayar at gmail.com>
Date: Monday, February 20 2023 15:19:36 
DPDK git baseline: Repo:dpdk
  Branch: master
  CommitID:fc6bdd5248e843ba1300c8d46d43b263b4a69438

124188 --> testing pass

Test environment and result as below:

+---------------------+----------------+
|     Environment     | dpdk_unit_test |
+=====================+================+
| Windows Server 2019 | PASS           |
+---------------------+----------------+
| RHEL 7              | PASS           |
+---------------------+----------------+
| CentOS Stream 8     | PASS           |
+---------------------+----------------+


Windows Server 2019
	Kernel: 10.0
	Compiler: clang 14.0 and gcc 8.1.0 (MinGW)

RHEL 7
	Kernel: 4.18.0-240.10.1.el8_3.x86_64
	Compiler: gcc 4.8.5 20150623 (Red Hat 4.8.5-44)

CentOS Stream 8
	Kernel: 4.18.0-240.10.1.el8_3.x86_64
	Compiler: gcc 8.4.1 20200928

To view detailed results, visit:
https://lab.dpdk.org/results/dashboard/patchsets/25464/

UNH-IOL DPDK Community Lab

To manage your email subscriptions, visit: 
https://lab.dpdk.org/results/dashboard/preferences/subscriptions/


More information about the test-report mailing list