|SUCCESS| pw124199 [PATCH] ethdev: initialize id in eth_representor_cmp()

dpdklab at iol.unh.edu dpdklab at iol.unh.edu
Mon Feb 20 19:53:58 CET 2023


Test-Label: iol-testing
Test-Status: SUCCESS
http://dpdk.org/patch/124199

_Testing PASS_

Submitter: Krzysztof Karas <krzysztof.karas at intel.com>
Date: Monday, February 20 2023 16:44:06 
DPDK git baseline: Repo:dpdk
  Branch: master
  CommitID:fc6bdd5248e843ba1300c8d46d43b263b4a69438

124199 --> testing pass

Test environment and result as below:

+---------------------+----------------+--------------------+
|     Environment     | dpdk_unit_test | dpdk_meson_compile |
+=====================+================+====================+
| Windows Server 2019 | PASS           | SKIPPED            |
+---------------------+----------------+--------------------+
| RHEL8               | PASS           | SKIPPED            |
+---------------------+----------------+--------------------+
| RHEL 7              | PASS           | SKIPPED            |
+---------------------+----------------+--------------------+
| Debian Bullseye     | PASS           | SKIPPED            |
+---------------------+----------------+--------------------+
| FreeBSD 13          | SKIPPED        | PASS               |
+---------------------+----------------+--------------------+


Windows Server 2019
	Kernel: 10.0
	Compiler: clang 14.0 and gcc 8.1.0 (MinGW)

RHEL8
	Kernel: 4.18.0-240.10.1.el8_3.x86_64
	Compiler: gcc 8.3.1 20191121 (Red Hat 8.3.1-5)

RHEL 7
	Kernel: 4.18.0-240.10.1.el8_3.x86_64
	Compiler: gcc 4.8.5 20150623 (Red Hat 4.8.5-44)

Debian Bullseye
	Kernel: 5.4.0-122-generic
	Compiler: gcc 10.2.1-6

FreeBSD 13
	Kernel: 13.0
	Compiler: clang 11.0.1

To view detailed results, visit:
https://lab.dpdk.org/results/dashboard/patchsets/25466/

UNH-IOL DPDK Community Lab

To manage your email subscriptions, visit: 
https://lab.dpdk.org/results/dashboard/preferences/subscriptions/


More information about the test-report mailing list