|SUCCESS| pw124191-124198 [PATCH] [v2, 9/9] app/testpmd: factorize fwd engine Tx

dpdklab at iol.unh.edu dpdklab at iol.unh.edu
Mon Feb 20 21:20:58 CET 2023


Test-Label: iol-testing
Test-Status: SUCCESS
http://dpdk.org/patch/124198

_Testing PASS_

Submitter: David Marchand <david.marchand at redhat.com>
Date: Monday, February 20 2023 16:41:03 
DPDK git baseline: Repo:dpdk
  Branch: master
  CommitID:fc6bdd5248e843ba1300c8d46d43b263b4a69438

124191-124198 --> testing pass

Test environment and result as below:

+---------------------+----------------+--------------------+
|     Environment     | dpdk_unit_test | dpdk_meson_compile |
+=====================+================+====================+
| Windows Server 2019 | PASS           | PASS               |
+---------------------+----------------+--------------------+
| Debian Buster       | PASS           | SKIPPED            |
+---------------------+----------------+--------------------+
| CentOS Stream 8     | PASS           | SKIPPED            |
+---------------------+----------------+--------------------+
| openSUSE Leap 15    | PASS           | SKIPPED            |
+---------------------+----------------+--------------------+
| RHEL 7              | PASS           | SKIPPED            |
+---------------------+----------------+--------------------+
| Ubuntu 22.04        | PASS           | SKIPPED            |
+---------------------+----------------+--------------------+
| FreeBSD 13          | SKIPPED        | PASS               |
+---------------------+----------------+--------------------+


Windows Server 2019
	Kernel: 10.0
	Compiler: clang 14.0 and gcc 8.1.0 (MinGW)

Debian Buster
	Kernel: 5.4.0-122-generic
	Compiler: gcc 8.3.0-6

CentOS Stream 8
	Kernel: 4.18.0-240.10.1.el8_3.x86_64
	Compiler: gcc 8.4.1 20200928

openSUSE Leap 15
	Kernel: 4.18.0-240.10.1.el8_3.x86_64
	Compiler: gcc 7.5.0

RHEL 7
	Kernel: 4.18.0-240.10.1.el8_3.x86_64
	Compiler: gcc 4.8.5 20150623 (Red Hat 4.8.5-44)

Ubuntu 22.04
	Kernel: Container Host Kernel
	Compiler: gcc 11.3.1-2

FreeBSD 13
	Kernel: 13.0
	Compiler: clang 11.0.1

To view detailed results, visit:
https://lab.dpdk.org/results/dashboard/patchsets/25465/

UNH-IOL DPDK Community Lab

To manage your email subscriptions, visit: 
https://lab.dpdk.org/results/dashboard/preferences/subscriptions/


More information about the test-report mailing list