|SUCCESS| [GIT MASTER] 9bd5ebca59c865aead7096358fb733e53a72007b

dpdklab at iol.unh.edu dpdklab at iol.unh.edu
Tue Feb 21 01:07:16 CET 2023


_Testing PASS_

Branch: dpdk

9bd5ebca59c865aead7096358fb733e53a72007b --> testing pass

Test environment and result as below:

+-----------------+----------------------------------+
|   Environment   | dpdk_kmod_compile_torvalds_linux |
+=================+==================================+
| Debian Bullseye | PASS                             |
+-----------------+----------------------------------+
| RHEL8           | PASS                             |
+-----------------+----------------------------------+
| Debian Buster   | PASS                             |
+-----------------+----------------------------------+
| CentOS Stream 8 | PASS                             |
+-----------------+----------------------------------+


Debian Bullseye
	Kernel: 5.4.0-122-generic
	Compiler: gcc 10.2.1-6

RHEL8
	Kernel: 4.18.0-240.10.1.el8_3.x86_64
	Compiler: gcc 8.3.1 20191121 (Red Hat 8.3.1-5)

Debian Buster
	Kernel: 5.4.0-122-generic
	Compiler: gcc 8.3.0-6

CentOS Stream 8
	Kernel: 4.18.0-240.10.1.el8_3.x86_64
	Compiler: gcc 8.4.1 20200928

To view detailed results, visit:
https://lab.dpdk.org/results/dashboard/tarballs/23418/

UNH-IOL DPDK Community Lab

To manage your email subscriptions, visit: 
https://lab.dpdk.org/results/dashboard/preferences/subscriptions/


More information about the test-report mailing list