|SUCCESS| pw124185-124186 [PATCH] [v2, 2/2] reorder: add ability to set min sequence number
dpdklab at iol.unh.edu
dpdklab at iol.unh.edu
Tue Feb 21 13:37:56 CET 2023
Test-Label: iol-abi-testing
Test-Status: SUCCESS
http://dpdk.org/patch/124186
_Testing PASS_
Submitter: Volodymyr Fialko <vfialko at marvell.com>
Date: Monday, February 20 2023 10:48:29
DPDK git baseline: Repo:dpdk
Branch: master
CommitID:fc6bdd5248e843ba1300c8d46d43b263b4a69438
124185-124186 --> testing pass
Test environment and result as below:
+------------------+----------+
| Environment | abi_test |
+==================+==========+
| Ubuntu 22.04 | PASS |
+------------------+----------+
| RHEL8 | PASS |
+------------------+----------+
| CentOS Stream 9 | PASS |
+------------------+----------+
| Ubuntu 20.04 | PASS |
+------------------+----------+
| Debian Bullseye | PASS |
+------------------+----------+
| RHEL 7 | PASS |
+------------------+----------+
| CentOS Stream 8 | PASS |
+------------------+----------+
| Debian Buster | PASS |
+------------------+----------+
| openSUSE Leap 15 | PASS |
+------------------+----------+
Ubuntu 22.04
Kernel: Container Host Kernel
Compiler: gcc 11.3.1-2
RHEL8
Kernel: 4.18.0-240.10.1.el8_3.x86_64
Compiler: gcc 8.3.1 20191121 (Red Hat 8.3.1-5)
CentOS Stream 9
Kernel: 4.18.0-240.10.1.el8_3.x86_64
Compiler: gcc 11.3.1 20220421
Ubuntu 20.04
Kernel: 4.18.0-240.10.1.el8_3.x86_64
Compiler: gcc 9.3.0-17ubuntu1~20.04
Debian Bullseye
Kernel: 5.4.0-122-generic
Compiler: gcc 10.2.1-6
RHEL 7
Kernel: 4.18.0-240.10.1.el8_3.x86_64
Compiler: gcc 4.8.5 20150623 (Red Hat 4.8.5-44)
CentOS Stream 8
Kernel: 4.18.0-240.10.1.el8_3.x86_64
Compiler: gcc 8.4.1 20200928
Debian Buster
Kernel: 5.4.0-122-generic
Compiler: gcc 8.3.0-6
openSUSE Leap 15
Kernel: 4.18.0-240.10.1.el8_3.x86_64
Compiler: gcc 7.5.0
To view detailed results, visit:
https://lab.dpdk.org/results/dashboard/patchsets/25462/
UNH-IOL DPDK Community Lab
To manage your email subscriptions, visit:
https://lab.dpdk.org/results/dashboard/preferences/subscriptions/
More information about the test-report
mailing list