|SUCCESS| [GIT MASTER] 7710b5d15a014872a3aaf646668dafa928ca8473

dpdklab at iol.unh.edu dpdklab at iol.unh.edu
Wed Feb 22 01:19:31 CET 2023


_Testing PASS_

Branch: dpdk

7710b5d15a014872a3aaf646668dafa928ca8473 --> testing pass

Test environment and result as below:

+-----------------+----------------------------------+
|   Environment   | dpdk_kmod_compile_torvalds_linux |
+=================+==================================+
| CentOS Stream 9 | PASS                             |
+-----------------+----------------------------------+
| Debian Bullseye | PASS                             |
+-----------------+----------------------------------+
| RHEL8           | PASS                             |
+-----------------+----------------------------------+
| Ubuntu 20.04    | PASS                             |
+-----------------+----------------------------------+
| CentOS Stream 8 | PASS                             |
+-----------------+----------------------------------+
| Ubuntu 22.04    | PASS                             |
+-----------------+----------------------------------+


CentOS Stream 9
	Kernel: 4.18.0-240.10.1.el8_3.x86_64
	Compiler: gcc 11.3.1 20220421

Debian Bullseye
	Kernel: 5.4.0-122-generic
	Compiler: gcc 10.2.1-6

RHEL8
	Kernel: 4.18.0-240.10.1.el8_3.x86_64
	Compiler: gcc 8.3.1 20191121 (Red Hat 8.3.1-5)

Ubuntu 20.04
	Kernel: 4.18.0-240.10.1.el8_3.x86_64
	Compiler: gcc 9.3.0-17ubuntu1~20.04

CentOS Stream 8
	Kernel: 4.18.0-240.10.1.el8_3.x86_64
	Compiler: gcc 8.4.1 20200928

Ubuntu 22.04
	Kernel: Container Host Kernel
	Compiler: clang 14.0.5-1.fc36

To view detailed results, visit:
https://lab.dpdk.org/results/dashboard/tarballs/23446/

UNH-IOL DPDK Community Lab

To manage your email subscriptions, visit: 
https://lab.dpdk.org/results/dashboard/preferences/subscriptions/


More information about the test-report mailing list