|SUCCESS| [GIT MASTER] 14a61443b2f99f4d14f242c1f8636bfacbaaf32c

dpdklab at iol.unh.edu dpdklab at iol.unh.edu
Wed Feb 22 04:49:48 CET 2023


_Testing PASS_

Branch: dpdk-next-net

14a61443b2f99f4d14f242c1f8636bfacbaaf32c --> testing pass

Test environment and result as below:

+---------------------+----------------+--------------------+
|     Environment     | dpdk_unit_test | dpdk_meson_compile |
+=====================+================+====================+
| Windows Server 2019 | PASS           | PASS               |
+---------------------+----------------+--------------------+
| Debian Bullseye     | PASS           | SKIPPED            |
+---------------------+----------------+--------------------+
| FreeBSD 13          | SKIPPED        | PASS               |
+---------------------+----------------+--------------------+


Windows Server 2019
	Kernel: 10.0
	Compiler: clang 14.0 and gcc 8.1.0 (MinGW)

Debian Bullseye
	Kernel: 5.4.0-122-generic
	Compiler: gcc 10.2.1-6

FreeBSD 13
	Kernel: 13.0
	Compiler: clang 11.0.1

To view detailed results, visit:
https://lab.dpdk.org/results/dashboard/tarballs/23442/

UNH-IOL DPDK Community Lab

To manage your email subscriptions, visit: 
https://lab.dpdk.org/results/dashboard/preferences/subscriptions/


More information about the test-report mailing list