|SUCCESS| pw124335 [PATCH] net/mana: use RTE_LOG_DP for logs on datapath

dpdklab at iol.unh.edu dpdklab at iol.unh.edu
Wed Feb 22 07:46:01 CET 2023


Test-Label: iol-testing
Test-Status: SUCCESS
http://dpdk.org/patch/124335

_Testing PASS_

Submitter: Long Li <longli at linuxonhyperv.com>
Date: Tuesday, February 21 2023 20:42:25 
DPDK git baseline: Repo:dpdk
  Branch: master
  CommitID:9bd5ebca59c865aead7096358fb733e53a72007b

124335 --> testing pass

Test environment and result as below:

+---------------------+----------------+--------------------+
|     Environment     | dpdk_unit_test | dpdk_meson_compile |
+=====================+================+====================+
| Windows Server 2019 | PASS           | PASS               |
+---------------------+----------------+--------------------+
| Ubuntu 20.04        | PASS           | SKIPPED            |
+---------------------+----------------+--------------------+
| RHEL8               | PASS           | SKIPPED            |
+---------------------+----------------+--------------------+
| FreeBSD 13          | SKIPPED        | PASS               |
+---------------------+----------------+--------------------+


Windows Server 2019
	Kernel: 10.0
	Compiler: clang 14.0 and gcc 8.1.0 (MinGW)

Ubuntu 20.04
	Kernel: 4.18.0-240.10.1.el8_3.x86_64
	Compiler: gcc 9.3.0-17ubuntu1~20.04

RHEL8
	Kernel: 4.18.0-240.10.1.el8_3.x86_64
	Compiler: gcc 8.3.1 20191121 (Red Hat 8.3.1-5)

FreeBSD 13
	Kernel: 13.0
	Compiler: clang 11.0.1

To view detailed results, visit:
https://lab.dpdk.org/results/dashboard/patchsets/25504/

UNH-IOL DPDK Community Lab

To manage your email subscriptions, visit: 
https://lab.dpdk.org/results/dashboard/preferences/subscriptions/


More information about the test-report mailing list