|SUCCESS| pw124433 [PATCH] [v6] app/procinfo: display eventdev xstats for PMD data
dpdklab at iol.unh.edu
dpdklab at iol.unh.edu
Thu Feb 23 04:57:21 CET 2023
Test-Label: iol-testing
Test-Status: SUCCESS
http://dpdk.org/patch/124433
_Testing PASS_
Submitter: Abdullah Sevincer <abdullah.sevincer at intel.com>
Date: Thursday, February 23 2023 01:08:19
DPDK git baseline: Repo:dpdk
Branch: master
CommitID:7710b5d15a014872a3aaf646668dafa928ca8473
124433 --> testing pass
Test environment and result as below:
+---------------------+----------------+
| Environment | dpdk_unit_test |
+=====================+================+
| Windows Server 2019 | PASS |
+---------------------+----------------+
| Debian Buster | PASS |
+---------------------+----------------+
| Debian Bullseye | PASS |
+---------------------+----------------+
| Ubuntu 22.04 | PASS |
+---------------------+----------------+
| CentOS Stream 8 | PASS |
+---------------------+----------------+
Windows Server 2019
Kernel: 10.0
Compiler: clang 14.0 and gcc 8.1.0 (MinGW)
Debian Buster
Kernel: 5.4.0-122-generic
Compiler: gcc 8.3.0-6
Debian Bullseye
Kernel: 5.4.0-122-generic
Compiler: gcc 10.2.1-6
Ubuntu 22.04
Kernel: Container Host Kernel
Compiler: clang 14.0.5-1.fc36
CentOS Stream 8
Kernel: 4.18.0-240.10.1.el8_3.x86_64
Compiler: gcc 8.4.1 20200928
To view detailed results, visit:
https://lab.dpdk.org/results/dashboard/patchsets/25523/
UNH-IOL DPDK Community Lab
To manage your email subscriptions, visit:
https://lab.dpdk.org/results/dashboard/preferences/subscriptions/
More information about the test-report
mailing list