|SUCCESS| [GIT MASTER] f09877166b29c89e8a602e0fd5b1289b26a88e8c
dpdklab at iol.unh.edu
dpdklab at iol.unh.edu
Thu Feb 23 22:03:58 CET 2023
_Testing PASS_
Branch: dpdk-next-net
f09877166b29c89e8a602e0fd5b1289b26a88e8c --> testing pass
Test environment and result as below:
+---------------------+--------------------+----------------------+----------------+
| Environment | dpdk_meson_compile | dpdk_mingw64_compile | dpdk_unit_test |
+=====================+====================+======================+================+
| FreeBSD 13 | PASS | SKIPPED | SKIPPED |
+---------------------+--------------------+----------------------+----------------+
| Windows Server 2019 | PASS | PASS | PASS |
+---------------------+--------------------+----------------------+----------------+
| CentOS Stream 8 | PASS | SKIPPED | SKIPPED |
+---------------------+--------------------+----------------------+----------------+
| CentOS Stream 9 | PASS | SKIPPED | SKIPPED |
+---------------------+--------------------+----------------------+----------------+
| Debian Buster | PASS | SKIPPED | SKIPPED |
+---------------------+--------------------+----------------------+----------------+
| RHEL 7 | SKIPPED | SKIPPED | PASS |
+---------------------+--------------------+----------------------+----------------+
FreeBSD 13
Kernel: 13.0
Compiler: clang 11.0.1
Windows Server 2019
Kernel: 10.0
Compiler: clang 14.0 and gcc 8.1.0 (MinGW)
CentOS Stream 8
Kernel: 4.18.0-240.10.1.el8_3.x86_64
Compiler: gcc 8.4.1 20200928
CentOS Stream 9
Kernel: 4.18.0-240.10.1.el8_3.x86_64
Compiler: gcc 11.3.1 20220421
Debian Buster
Kernel: 5.4.0-122-generic
Compiler: gcc 8.3.0-6
RHEL 7
Kernel: 4.18.0-240.10.1.el8_3.x86_64
Compiler: gcc 4.8.5 20150623 (Red Hat 4.8.5-44)
To view detailed results, visit:
https://lab.dpdk.org/results/dashboard/tarballs/23482/
UNH-IOL DPDK Community Lab
To manage your email subscriptions, visit:
https://lab.dpdk.org/results/dashboard/preferences/subscriptions/
More information about the test-report
mailing list