|SUCCESS| [GIT MASTER] 31608e4db56893c896375288671b5ee38723a211

dpdklab at iol.unh.edu dpdklab at iol.unh.edu
Mon Feb 27 16:51:11 CET 2023


_Testing PASS_

Branch: tags/v21.11

31608e4db56893c896375288671b5ee38723a211 --> testing pass

Test environment and result as below:

+---------------------+--------------------+----------------------+----------------+
|     Environment     | dpdk_meson_compile | dpdk_mingw64_compile | dpdk_unit_test |
+=====================+====================+======================+================+
| Windows Server 2019 | PASS               | PASS                 | PASS           |
+---------------------+--------------------+----------------------+----------------+
| FreeBSD 13          | PASS               | SKIPPED              | SKIPPED        |
+---------------------+--------------------+----------------------+----------------+
| CentOS Stream 8     | SKIPPED            | SKIPPED              | PASS           |
+---------------------+--------------------+----------------------+----------------+


Windows Server 2019
	Kernel: 10.0
	Compiler: clang 14.0 and gcc 8.1.0 (MinGW)

FreeBSD 13
	Kernel: 13.0
	Compiler: clang 11.0.1

CentOS Stream 8
	Kernel: 4.18.0-240.10.1.el8_3.x86_64
	Compiler: gcc 8.4.1 20200928

To view detailed results, visit:
https://lab.dpdk.org/results/dashboard/tarballs/23511/

UNH-IOL DPDK Community Lab

To manage your email subscriptions, visit: 
https://lab.dpdk.org/results/dashboard/preferences/subscriptions/


More information about the test-report mailing list