|SUCCESS| pw124549 [PATCH] net/mlx5: reject flow template API reconfiguration
dpdklab at iol.unh.edu
dpdklab at iol.unh.edu
Mon Feb 27 19:28:48 CET 2023
Test-Label: iol-testing
Test-Status: SUCCESS
http://dpdk.org/patch/124549
_Testing PASS_
Submitter: Dariusz Sosnowski <dsosnowski at nvidia.com>
Date: Saturday, February 25 2023 19:58:04
DPDK git baseline: Repo:dpdk
Branch: master
CommitID:7710b5d15a014872a3aaf646668dafa928ca8473
124549 --> testing pass
Test environment and result as below:
+---------------------+--------------------+----------------------+----------------+
| Environment | dpdk_meson_compile | dpdk_mingw64_compile | dpdk_unit_test |
+=====================+====================+======================+================+
| FreeBSD 13 | PASS | SKIPPED | SKIPPED |
+---------------------+--------------------+----------------------+----------------+
| Windows Server 2019 | PASS | PASS | PASS |
+---------------------+--------------------+----------------------+----------------+
| Ubuntu 22.04 | SKIPPED | SKIPPED | PASS |
+---------------------+--------------------+----------------------+----------------+
| RHEL 7 | SKIPPED | SKIPPED | PASS |
+---------------------+--------------------+----------------------+----------------+
FreeBSD 13
Kernel: 13.0
Compiler: clang 11.0.1
Windows Server 2019
Kernel: 10.0
Compiler: clang 14.0 and gcc 8.1.0 (MinGW)
Ubuntu 22.04
Kernel: Container Host Kernel
Compiler: gcc 11.3.1-2
RHEL 7
Kernel: 4.18.0-240.10.1.el8_3.x86_64
Compiler: gcc 4.8.5 20150623 (Red Hat 4.8.5-44)
To view detailed results, visit:
https://lab.dpdk.org/results/dashboard/patchsets/25551/
UNH-IOL DPDK Community Lab
To manage your email subscriptions, visit:
https://lab.dpdk.org/results/dashboard/preferences/subscriptions/
More information about the test-report
mailing list