|SUCCESS| pw124555 [PATCH] vhost: fix OOB access for invalid vid

dpdklab at iol.unh.edu dpdklab at iol.unh.edu
Mon Feb 27 21:49:49 CET 2023


Test-Label: iol-testing
Test-Status: SUCCESS
http://dpdk.org/patch/124555

_Testing PASS_

Submitter: David Marchand <david.marchand at redhat.com>
Date: Monday, February 27 2023 10:59:27 
DPDK git baseline: Repo:dpdk
  Branch: master
  CommitID:7710b5d15a014872a3aaf646668dafa928ca8473

124555 --> testing pass

Test environment and result as below:

+---------------------+----------------+--------------------+----------------------+
|     Environment     | dpdk_unit_test | dpdk_meson_compile | dpdk_mingw64_compile |
+=====================+================+====================+======================+
| Windows Server 2019 | PASS           | PASS               | PASS                 |
+---------------------+----------------+--------------------+----------------------+
| RHEL8               | PASS           | SKIPPED            | SKIPPED              |
+---------------------+----------------+--------------------+----------------------+
| openSUSE Leap 15    | PASS           | SKIPPED            | SKIPPED              |
+---------------------+----------------+--------------------+----------------------+
| Ubuntu 22.04        | PASS           | SKIPPED            | SKIPPED              |
+---------------------+----------------+--------------------+----------------------+
| RHEL 7              | PASS           | SKIPPED            | SKIPPED              |
+---------------------+----------------+--------------------+----------------------+
| FreeBSD 13          | SKIPPED        | PASS               | SKIPPED              |
+---------------------+----------------+--------------------+----------------------+


Windows Server 2019
	Kernel: 10.0
	Compiler: clang 14.0 and gcc 8.1.0 (MinGW)

RHEL8
	Kernel: 4.18.0-240.10.1.el8_3.x86_64
	Compiler: gcc 8.3.1 20191121 (Red Hat 8.3.1-5)

openSUSE Leap 15
	Kernel: 4.18.0-240.10.1.el8_3.x86_64
	Compiler: gcc 7.5.0

Ubuntu 22.04
	Kernel: Container Host Kernel
	Compiler: clang 14.0.5-1.fc36

RHEL 7
	Kernel: 4.18.0-240.10.1.el8_3.x86_64
	Compiler: gcc 4.8.5 20150623 (Red Hat 4.8.5-44)

FreeBSD 13
	Kernel: 13.0
	Compiler: clang 11.0.1

To view detailed results, visit:
https://lab.dpdk.org/results/dashboard/patchsets/25554/

UNH-IOL DPDK Community Lab

To manage your email subscriptions, visit: 
https://lab.dpdk.org/results/dashboard/preferences/subscriptions/


More information about the test-report mailing list