|SUCCESS| [GIT MASTER] 31608e4db56893c896375288671b5ee38723a211

dpdklab at iol.unh.edu dpdklab at iol.unh.edu
Tue Feb 28 07:54:43 CET 2023


_Testing PASS_

Branch: tags/v21.11

31608e4db56893c896375288671b5ee38723a211 --> testing pass

Test environment and result as below:

+---------------------+--------------------+----------------+----------------------+
|     Environment     | dpdk_meson_compile | dpdk_unit_test | dpdk_mingw64_compile |
+=====================+====================+================+======================+
| Windows Server 2019 | PASS               | PASS           | PASS                 |
+---------------------+--------------------+----------------+----------------------+
| FreeBSD 13          | PASS               | SKIPPED        | SKIPPED              |
+---------------------+--------------------+----------------+----------------------+
| CentOS Stream 9     | PASS               | SKIPPED        | SKIPPED              |
+---------------------+--------------------+----------------+----------------------+
| Debian Buster       | SKIPPED            | PASS           | SKIPPED              |
+---------------------+--------------------+----------------+----------------------+
| RHEL 7              | SKIPPED            | PASS           | SKIPPED              |
+---------------------+--------------------+----------------+----------------------+
| Ubuntu 22.04        | SKIPPED            | PASS           | SKIPPED              |
+---------------------+--------------------+----------------+----------------------+


Windows Server 2019
	Kernel: 10.0
	Compiler: clang 14.0 and gcc 8.1.0 (MinGW)

FreeBSD 13
	Kernel: 13.0
	Compiler: clang 11.0.1

CentOS Stream 9
	Kernel: 4.18.0-240.10.1.el8_3.x86_64
	Compiler: gcc 11.3.1 20220421

Debian Buster
	Kernel: 5.4.0-122-generic
	Compiler: gcc 8.3.0-6

RHEL 7
	Kernel: 4.18.0-240.10.1.el8_3.x86_64
	Compiler: gcc 4.8.5 20150623 (Red Hat 4.8.5-44)

Ubuntu 22.04
	Kernel: 4.18.0-240.10.1.el8_3.x86_64
	Compiler: gcc 11.3.0

To view detailed results, visit:
https://lab.dpdk.org/results/dashboard/tarballs/23516/

UNH-IOL DPDK Community Lab

To manage your email subscriptions, visit: 
https://lab.dpdk.org/results/dashboard/preferences/subscriptions/


More information about the test-report mailing list