|SUCCESS| [GIT MASTER] 2ff0df42bf84113267ef76542e47d9b0e1a78705

dpdklab at iol.unh.edu dpdklab at iol.unh.edu
Tue Feb 28 19:12:51 CET 2023


_Testing PASS_

Branch: dpdk-next-crypto

2ff0df42bf84113267ef76542e47d9b0e1a78705 --> testing pass

Test environment and result as below:

+---------------------+--------------------+----------------------+----------------+
|     Environment     | dpdk_meson_compile | dpdk_mingw64_compile | dpdk_unit_test |
+=====================+====================+======================+================+
| FreeBSD 13          | PASS               | SKIPPED              | SKIPPED        |
+---------------------+--------------------+----------------------+----------------+
| Windows Server 2019 | PASS               | PASS                 | PASS           |
+---------------------+--------------------+----------------------+----------------+
| CentOS Stream 8     | PASS               | SKIPPED              | PASS           |
+---------------------+--------------------+----------------------+----------------+
| Debian Buster       | SKIPPED            | SKIPPED              | PASS           |
+---------------------+--------------------+----------------------+----------------+


FreeBSD 13
	Kernel: 13.0
	Compiler: clang 11.0.1

Windows Server 2019
	Kernel: 10.0
	Compiler: clang 14.0 and gcc 8.1.0 (MinGW)

CentOS Stream 8
	Kernel: 4.18.0-240.10.1.el8_3.x86_64
	Compiler: gcc 8.4.1 20200928

Debian Buster
	Kernel: 5.4.0-122-generic
	Compiler: gcc 8.3.0-6

To view detailed results, visit:
https://lab.dpdk.org/results/dashboard/tarballs/23524/

UNH-IOL DPDK Community Lab

To manage your email subscriptions, visit: 
https://lab.dpdk.org/results/dashboard/preferences/subscriptions/


More information about the test-report mailing list