|SUCCESS| pw124576-124578 [PATCH] [5/5] net/mlx5: enable enhanced CQE compression

dpdklab at iol.unh.edu dpdklab at iol.unh.edu
Tue Feb 28 19:50:47 CET 2023


Test-Label: iol-aarch64-unit-testing
Test-Status: SUCCESS
http://dpdk.org/patch/124578

_Testing PASS_

Submitter: Alexander Kozyrev <akozyrev at nvidia.com>
Date: Tuesday, February 28 2023 16:43:10 
DPDK git baseline: Repo:dpdk
  Branch: master
  CommitID:7710b5d15a014872a3aaf646668dafa928ca8473

124576-124578 --> testing pass

Test environment and result as below:

+----------------------+------------------------------+---------------------------+--------------+
|     Environment      | cryptodev_sw_snow3g_autotest | cryptodev_sw_zuc_autotest | lpm_autotest |
+======================+==============================+===========================+==============+
| Debian 11            | PASS                         | PASS                      | SKIPPED      |
+----------------------+------------------------------+---------------------------+--------------+
| Ubuntu 20.04 ARM SVE | SKIPPED                      | SKIPPED                   | PASS         |
+----------------------+------------------------------+---------------------------+--------------+


Debian 11
	Kernel: Container Host Kernel
	Compiler: gcc 10.2.1

Ubuntu 20.04 ARM SVE
	Kernel: 5.4.0-80-generic
	Compiler: gcc 10.3.0 (Ubuntu 10.3.0-1ubuntu1~20.04)

To view detailed results, visit:
https://lab.dpdk.org/results/dashboard/patchsets/25564/

UNH-IOL DPDK Community Lab

To manage your email subscriptions, visit: 
https://lab.dpdk.org/results/dashboard/preferences/subscriptions/


More information about the test-report mailing list