|SUCCESS| pw124589 [PATCH] kni: fix build with Linux 6.3
dpdklab at iol.unh.edu
dpdklab at iol.unh.edu
Tue Feb 28 23:22:42 CET 2023
Test-Label: iol-aarch64-unit-testing
Test-Status: SUCCESS
http://dpdk.org/patch/124589
_Testing PASS_
Submitter: Ferruh Yigit <ferruh.yigit at amd.com>
Date: Tuesday, February 28 2023 17:29:09
DPDK git baseline: Repo:dpdk
Branch: master
CommitID:7710b5d15a014872a3aaf646668dafa928ca8473
124589 --> testing pass
Test environment and result as below:
+----------------------+---------------------------+------------------------------+--------------+
| Environment | cryptodev_sw_zuc_autotest | cryptodev_sw_snow3g_autotest | lpm_autotest |
+======================+===========================+==============================+==============+
| Debian 11 | PASS | PASS | SKIPPED |
+----------------------+---------------------------+------------------------------+--------------+
| Ubuntu 20.04 ARM SVE | SKIPPED | SKIPPED | PASS |
+----------------------+---------------------------+------------------------------+--------------+
Debian 11
Kernel: Container Host Kernel
Compiler: gcc 10.2.1
Ubuntu 20.04 ARM SVE
Kernel: 5.4.0-80-generic
Compiler: gcc 10.3.0 (Ubuntu 10.3.0-1ubuntu1~20.04)
To view detailed results, visit:
https://lab.dpdk.org/results/dashboard/patchsets/25566/
UNH-IOL DPDK Community Lab
To manage your email subscriptions, visit:
https://lab.dpdk.org/results/dashboard/preferences/subscriptions/
More information about the test-report
mailing list