|SUCCESS| pw121703 [PATCH] [v2] crypto/openssl: fix warning on copy length
dpdklab at iol.unh.edu
dpdklab at iol.unh.edu
Mon Jan 9 07:27:50 CET 2023
Test-Label: iol-testing
Test-Status: SUCCESS
http://dpdk.org/patch/121703
_Testing PASS_
Submitter: Ruifeng Wang <ruifeng.wang at arm.com>
Date: Monday, January 09 2023 03:40:21
DPDK git baseline: Repo:dpdk
Branch: master
CommitID:373f4c7de8ff350548cacc3d56e788461677f2c7
121703 --> testing pass
Test environment and result as below:
+----------------------------------------+--------------------+----------------------+----------------+
| Environment | dpdk_meson_compile | dpdk_mingw64_compile | dpdk_unit_test |
+========================================+====================+======================+================+
| Windows Server 2019 | PASS | PASS | PASS |
+----------------------------------------+--------------------+----------------------+----------------+
| FreeBSD 13 | PASS | SKIPPED | SKIPPED |
+----------------------------------------+--------------------+----------------------+----------------+
| Ubuntu 20.04 ARM GCC Native | PASS | SKIPPED | PASS |
+----------------------------------------+--------------------+----------------------+----------------+
| Ubuntu 20.04 ARM Clang Native | PASS | SKIPPED | PASS |
+----------------------------------------+--------------------+----------------------+----------------+
| Ubuntu 20.04 aarch32 GCC Cross Compile | PASS | SKIPPED | SKIPPED |
+----------------------------------------+--------------------+----------------------+----------------+
| Ubuntu 22.04 | PASS | SKIPPED | PASS |
+----------------------------------------+--------------------+----------------------+----------------+
| Ubuntu 20.04 ARM Clang Cross Compile | PASS | SKIPPED | SKIPPED |
+----------------------------------------+--------------------+----------------------+----------------+
| Ubuntu 20.04 ARM GCC Cross Compile | PASS | SKIPPED | SKIPPED |
+----------------------------------------+--------------------+----------------------+----------------+
| Debian Bullseye | PASS | SKIPPED | PASS |
+----------------------------------------+--------------------+----------------------+----------------+
| Debian Buster | PASS | SKIPPED | PASS |
+----------------------------------------+--------------------+----------------------+----------------+
| CentOS Stream 9 | PASS | SKIPPED | PASS |
+----------------------------------------+--------------------+----------------------+----------------+
| RHEL 7 | PASS | SKIPPED | PASS |
+----------------------------------------+--------------------+----------------------+----------------+
| openSUSE Leap 15 | PASS | SKIPPED | PASS |
+----------------------------------------+--------------------+----------------------+----------------+
| CentOS Stream 8 | PASS | SKIPPED | PASS |
+----------------------------------------+--------------------+----------------------+----------------+
| RHEL8 | PASS | SKIPPED | PASS |
+----------------------------------------+--------------------+----------------------+----------------+
| Ubuntu 20.04 ARM SVE | PASS | SKIPPED | SKIPPED |
+----------------------------------------+--------------------+----------------------+----------------+
| Ubuntu 20.04 | PASS | SKIPPED | PASS |
+----------------------------------------+--------------------+----------------------+----------------+
Windows Server 2019
Kernel: 10.0
Compiler: clang 14.0 and gcc 8.1.0 (MinGW)
FreeBSD 13
Kernel: 13.0
Compiler: clang 11.0.1
Ubuntu 20.04 ARM GCC Native
Kernel: 5.4.0-53-generic
Compiler: gcc 9.3
Ubuntu 20.04 ARM Clang Native
Kernel: 5.4.0-53-generic
Compiler: clang 10.0.0-4ubuntu1
Ubuntu 20.04 aarch32 GCC Cross Compile
Kernel: 5.4.0-72-generic
Compiler: gcc 9.3.0
Ubuntu 22.04
Kernel: Container Host Kernel
Compiler: clang 14.0.5-1.fc36
Ubuntu 20.04 ARM Clang Cross Compile
Kernel: 5.4.0-72-generic
Compiler: clang version 10.0.0-4ubuntu1
Ubuntu 20.04 ARM GCC Cross Compile
Kernel: 5.4.0-72-generic
Compiler: aarch64-linux-gnu-gcc (Ubuntu 9.3.0-17ubuntu1~20.04) 9.3.0
Debian Bullseye
Kernel: 5.4.0-122-generic
Compiler: gcc 10.2.1-6
Debian Buster
Kernel: 5.4.0-122-generic
Compiler: gcc 8.3.0-6
CentOS Stream 9
Kernel: 4.18.0-240.10.1.el8_3.x86_64
Compiler: gcc 11.3.1 20220421
RHEL 7
Kernel: 4.18.0-240.10.1.el8_3.x86_64
Compiler: gcc 4.8.5 20150623 (Red Hat 4.8.5-44)
openSUSE Leap 15
Kernel: 4.18.0-240.10.1.el8_3.x86_64
Compiler: gcc 7.5.0
CentOS Stream 8
Kernel: 4.18.0-240.10.1.el8_3.x86_64
Compiler: gcc 8.4.1 20200928
RHEL8
Kernel: 4.18.0-240.10.1.el8_3.x86_64
Compiler: gcc 8.3.1 20191121 (Red Hat 8.3.1-5)
Ubuntu 20.04 ARM SVE
Kernel: 5.4.0-80-generic
Compiler: gcc 10.3.0 (Ubuntu 10.3.0-1ubuntu1~20.04)
Ubuntu 20.04
Kernel: 4.18.0-240.10.1.el8_3.x86_64
Compiler: gcc 9.3.0-17ubuntu1~20.04
To view detailed results, visit:
https://lab.dpdk.org/results/dashboard/patchsets/24913/
UNH-IOL DPDK Community Lab
To manage your email subscriptions, visit:
https://lab.dpdk.org/results/dashboard/preferences/subscriptions/
More information about the test-report
mailing list