|SUCCESS| pw129210 [PATCH] [v5] bitmap: add scan from offset functio

dpdklab at iol.unh.edu dpdklab at iol.unh.edu
Mon Jul 3 17:22:09 CEST 2023


Test-Label: iol-aarch-unit-testing
Test-Status: SUCCESS
http://dpdk.org/patch/129210

_Testing PASS_

Submitter: Volodymyr Fialko <vfialko at marvell.com>
Date: Monday, July 03 2023 12:39:08 
DPDK git baseline: Repo:dpdk
  Branch: master
  CommitID:93a4b3beba4ee611685148917981f846427cafb2

129210 --> testing pass

Test environment and result as below:

+-----------------------------+---------------------------+----------------+--------------+------------------------------+
|         Environment         | cryptodev_sw_zuc_autotest | dpdk_unit_test | lpm_autotest | cryptodev_sw_snow3g_autotest |
+=============================+===========================+================+==============+==============================+
| Debian 11                   | PASS                      | SKIPPED        | SKIPPED      | PASS                         |
+-----------------------------+---------------------------+----------------+--------------+------------------------------+
| (32-bit) ARM Ubuntu 20.04.4 | SKIPPED                   | PASS           | SKIPPED      | SKIPPED                      |
+-----------------------------+---------------------------+----------------+--------------+------------------------------+
| Ubuntu 20.04 ARM SVE        | SKIPPED                   | SKIPPED        | PASS         | SKIPPED                      |
+-----------------------------+---------------------------+----------------+--------------+------------------------------+


Debian 11
	Kernel: Container Host Kernel
	Compiler: gcc 10.2.1

(32-bit) ARM Ubuntu 20.04.4
	Kernel: 5.4.0-148-generic aarch64
	Compiler: gcc 9.4

Ubuntu 20.04 ARM SVE
	Kernel: 5.4.0-80-generic
	Compiler: gcc 10.3.0 (Ubuntu 10.3.0-1ubuntu1~20.04)

To view detailed results, visit:
https://lab.dpdk.org/results/dashboard/patchsets/26934/

UNH-IOL DPDK Community Lab

To manage your email subscriptions, visit: 
https://lab.dpdk.org/results/dashboard/preferences/subscriptions/


More information about the test-report mailing list