|SUCCESS| pw129189 [PATCH] vhost: fix build with gcc 4.8
dpdklab at iol.unh.edu
dpdklab at iol.unh.edu
Mon Jul 3 18:44:04 CEST 2023
Test-Label: iol-abi-testing
Test-Status: SUCCESS
http://dpdk.org/patch/129189
_Testing PASS_
Submitter: Ali Alnubani <alialnu at nvidia.com>
Date: Monday, July 03 2023 08:21:53
DPDK git baseline: Repo:dpdk-next-virtio
Branch: master
CommitID:93a4b3beba4ee611685148917981f846427cafb2
129189 --> testing pass
Test environment and result as below:
+--------------+----------+
| Environment | abi_test |
+==============+==========+
| Ubuntu 22.04 | PASS |
+--------------+----------+
| RHEL 7 | PASS |
+--------------+----------+
| Fedora 37 | PASS |
+--------------+----------+
Ubuntu 22.04
Kernel: 4.18.0-240.10.1.el8_3.x86_64
Compiler: gcc 11.3.0
RHEL 7
Kernel: 4.18.0-240.10.1.el8_3.x86_64
Compiler: gcc 4.8.5 20150623 (Red Hat 4.8.5-44)
Fedora 37
Kernel: Depends on container host system
Compiler: gcc 12.3.1
To view detailed results, visit:
https://lab.dpdk.org/results/dashboard/patchsets/26922/
UNH-IOL DPDK Community Lab
To manage your email subscriptions, visit:
https://lab.dpdk.org/results/dashboard/preferences/subscriptions/
More information about the test-report
mailing list