|SUCCESS| pw129183 [PATCH] doc: add ice VF live migration guide
dpdklab at iol.unh.edu
dpdklab at iol.unh.edu
Mon Jul 3 19:54:31 CEST 2023
Test-Label: iol-abi-testing
Test-Status: SUCCESS
http://dpdk.org/patch/129183
_Testing PASS_
Submitter: Lingyu Liu <lingyu.liu at intel.com>
Date: Monday, July 03 2023 05:14:49
DPDK git baseline: Repo:dpdk-next-net-intel
Branch: master
CommitID:a174a774640a32590ceabd609aa94644d1211193
129183 --> testing pass
Test environment and result as below:
+-----------------+----------+
| Environment | abi_test |
+=================+==========+
| CentOS Stream 8 | PASS |
+-----------------+----------+
| Debian Bullseye | PASS |
+-----------------+----------+
| Ubuntu 22.04 | PASS |
+-----------------+----------+
CentOS Stream 8
Kernel: 4.18.0-240.10.1.el8_3.x86_64
Compiler: gcc 8.4.1 20200928
Debian Bullseye
Kernel: 5.4.0-122-generic
Compiler: gcc 10.2.1-6
Ubuntu 22.04
Kernel: 4.18.0-240.10.1.el8_3.x86_64
Compiler: gcc 11.3.0
To view detailed results, visit:
https://lab.dpdk.org/results/dashboard/patchsets/26916/
UNH-IOL DPDK Community Lab
To manage your email subscriptions, visit:
https://lab.dpdk.org/results/dashboard/preferences/subscriptions/
More information about the test-report
mailing list