|SUCCESS| pw129222 [PATCH] net/mlx5: forbid MPRQ restart
dpdklab at iol.unh.edu
dpdklab at iol.unh.edu
Tue Jul 4 00:15:02 CEST 2023
Test-Label: iol-aarch-unit-testing
Test-Status: SUCCESS
http://dpdk.org/patch/129222
_Testing PASS_
Submitter: Alexander Kozyrev <akozyrev at nvidia.com>
Date: Monday, July 03 2023 21:22:24
DPDK git baseline: Repo:dpdk-next-net-mlx
Branch: master
CommitID:3cf3497213d2fe345729db3eadac2b543209213f
129222 --> testing pass
Test environment and result as below:
+-----------------------------+------------------------------+---------------------------+--------------+----------------+
| Environment | cryptodev_sw_snow3g_autotest | cryptodev_sw_zuc_autotest | lpm_autotest | dpdk_unit_test |
+=============================+==============================+===========================+==============+================+
| Debian 11 | PASS | PASS | SKIPPED | SKIPPED |
+-----------------------------+------------------------------+---------------------------+--------------+----------------+
| Ubuntu 20.04 ARM SVE | SKIPPED | SKIPPED | PASS | SKIPPED |
+-----------------------------+------------------------------+---------------------------+--------------+----------------+
| (32-bit) ARM Ubuntu 20.04.4 | SKIPPED | SKIPPED | SKIPPED | PASS |
+-----------------------------+------------------------------+---------------------------+--------------+----------------+
Debian 11
Kernel: Container Host Kernel
Compiler: gcc 10.2.1
Ubuntu 20.04 ARM SVE
Kernel: 5.4.0-80-generic
Compiler: gcc 10.3.0 (Ubuntu 10.3.0-1ubuntu1~20.04)
(32-bit) ARM Ubuntu 20.04.4
Kernel: 5.4.0-148-generic aarch64
Compiler: gcc 9.4
To view detailed results, visit:
https://lab.dpdk.org/results/dashboard/patchsets/26939/
UNH-IOL DPDK Community Lab
To manage your email subscriptions, visit:
https://lab.dpdk.org/results/dashboard/preferences/subscriptions/
More information about the test-report
mailing list