|SUCCESS| pw129286 [PATCH] net/iavf: fix Tunnel TSO path selecting.

dpdklab at iol.unh.edu dpdklab at iol.unh.edu
Wed Jul 5 13:15:00 CEST 2023


Test-Label: iol-abi-testing
Test-Status: SUCCESS
http://dpdk.org/patch/129286

_Testing PASS_

Submitter: Ke Xu <ke1.xu at intel.com>
Date: Wednesday, July 05 2023 10:35:38 
DPDK git baseline: Repo:dpdk-next-net-intel
  Branch: master
  CommitID:3dbf1b6d6545045c28b205609225fd4be3943212

129286 --> testing pass

Test environment and result as below:

+------------------+----------+
|   Environment    | abi_test |
+==================+==========+
| RHEL 7           | PASS     |
+------------------+----------+
| openSUSE Leap 15 | PASS     |
+------------------+----------+
| RHEL8            | PASS     |
+------------------+----------+


RHEL 7
	Kernel: 4.18.0-240.10.1.el8_3.x86_64
	Compiler: gcc 4.8.5 20150623 (Red Hat 4.8.5-44)

openSUSE Leap 15
	Kernel: 4.18.0-240.10.1.el8_3.x86_64
	Compiler: gcc 7.5.0

RHEL8
	Kernel: 4.18.0-240.10.1.el8_3.x86_64
	Compiler: gcc 8.3.1 20191121 (Red Hat 8.3.1-5)

To view detailed results, visit:
https://lab.dpdk.org/results/dashboard/patchsets/26971/

UNH-IOL DPDK Community Lab

To manage your email subscriptions, visit: 
https://lab.dpdk.org/results/dashboard/preferences/subscriptions/


More information about the test-report mailing list