|SUCCESS| pw129213 [PATCH] test: remove unnecessary rte_srand
dpdklab at iol.unh.edu
dpdklab at iol.unh.edu
Thu Jul 6 03:13:24 CEST 2023
Test-Label: iol-abi-testing
Test-Status: SUCCESS
http://dpdk.org/patch/129213
_Testing PASS_
Submitter: Stephen Hemminger <stephen at networkplumber.org>
Date: Monday, July 03 2023 18:49:03
DPDK git baseline: Repo:dpdk
Branch: master
CommitID:a64a4564705d18d20d20cfa16c79e795b7bf0f1e
129213 --> testing pass
Test environment and result as below:
+------------------+----------+
| Environment | abi_test |
+==================+==========+
| CentOS Stream 8 | PASS |
+------------------+----------+
| Debian Buster | PASS |
+------------------+----------+
| Debian Bullseye | PASS |
+------------------+----------+
| Fedora 37 | PASS |
+------------------+----------+
| openSUSE Leap 15 | PASS |
+------------------+----------+
| Ubuntu 22.04 | PASS |
+------------------+----------+
CentOS Stream 8
Kernel: 4.18.0-240.10.1.el8_3.x86_64
Compiler: gcc 8.4.1 20200928
Debian Buster
Kernel: 5.4.0-122-generic
Compiler: gcc 8.3.0-6
Debian Bullseye
Kernel: 5.4.0-122-generic
Compiler: gcc 10.2.1-6
Fedora 37
Kernel: Depends on container host system
Compiler: gcc 12.3.1
openSUSE Leap 15
Kernel: 4.18.0-240.10.1.el8_3.x86_64
Compiler: gcc 7.5.0
Ubuntu 22.04
Kernel: 4.18.0-240.10.1.el8_3.x86_64
Compiler: gcc 11.3.0
To view detailed results, visit:
https://lab.dpdk.org/results/dashboard/patchsets/26937/
UNH-IOL DPDK Community Lab
To manage your email subscriptions, visit:
https://lab.dpdk.org/results/dashboard/preferences/subscriptions/
More information about the test-report
mailing list