|SUCCESS| pw129325 [PATCH] net/iavf: fix AVX2 path selection

dpdklab at iol.unh.edu dpdklab at iol.unh.edu
Thu Jul 6 08:14:52 CEST 2023


Test-Label: iol-abi-testing
Test-Status: SUCCESS
http://dpdk.org/patch/129325

_Testing PASS_

Submitter: Zeng, ZhichaoX <zhichaox.zeng at intel.com>
Date: Thursday, July 06 2023 03:20:23 
DPDK git baseline: Repo:dpdk
  Branch: master
  CommitID:a64a4564705d18d20d20cfa16c79e795b7bf0f1e

129325 --> testing pass

Test environment and result as below:

+-----------------+----------+
|   Environment   | abi_test |
+=================+==========+
| CentOS Stream 9 | PASS     |
+-----------------+----------+
| Debian Bullseye | PASS     |
+-----------------+----------+
| RHEL 7          | PASS     |
+-----------------+----------+
| Fedora 38       | PASS     |
+-----------------+----------+
| Debian Buster   | PASS     |
+-----------------+----------+


CentOS Stream 9
	Kernel: 4.18.0-240.10.1.el8_3.x86_64
	Compiler: gcc 11.3.1 20220421

Debian Bullseye
	Kernel: 5.4.0-122-generic
	Compiler: gcc 10.2.1-6

RHEL 7
	Kernel: 4.18.0-240.10.1.el8_3.x86_64
	Compiler: gcc 4.8.5 20150623 (Red Hat 4.8.5-44)

Fedora 38
	Kernel: Depends on container host
	Compiler: gcc 13.1.1

Debian Buster
	Kernel: 5.4.0-122-generic
	Compiler: gcc 8.3.0-6

To view detailed results, visit:
https://lab.dpdk.org/results/dashboard/patchsets/26992/

UNH-IOL DPDK Community Lab

To manage your email subscriptions, visit: 
https://lab.dpdk.org/results/dashboard/preferences/subscriptions/


More information about the test-report mailing list