|SUCCESS| pw129323 [PATCH] [v2] net/iavf: fix Tunnel TSO path select

dpdklab at iol.unh.edu dpdklab at iol.unh.edu
Thu Jul 6 08:33:43 CEST 2023


Test-Label: iol-abi-testing
Test-Status: SUCCESS
http://dpdk.org/patch/129323

_Testing PASS_

Submitter: Xu, Ke1 <ke1.xu at intel.com>
Date: Thursday, July 06 2023 02:45:26 
DPDK git baseline: Repo:dpdk-next-net-intel
  Branch: master
  CommitID:d31932e0a330e4a4496a73c48f6921d76591a3bb

129323 --> testing pass

Test environment and result as below:

+-----------------+----------+
|   Environment   | abi_test |
+=================+==========+
| Debian Buster   | PASS     |
+-----------------+----------+
| CentOS Stream 9 | PASS     |
+-----------------+----------+
| CentOS Stream 8 | PASS     |
+-----------------+----------+


Debian Buster
	Kernel: 5.4.0-122-generic
	Compiler: gcc 8.3.0-6

CentOS Stream 9
	Kernel: 4.18.0-240.10.1.el8_3.x86_64
	Compiler: gcc 11.3.1 20220421

CentOS Stream 8
	Kernel: 4.18.0-240.10.1.el8_3.x86_64
	Compiler: gcc 8.4.1 20200928

To view detailed results, visit:
https://lab.dpdk.org/results/dashboard/patchsets/26990/

UNH-IOL DPDK Community Lab

To manage your email subscriptions, visit: 
https://lab.dpdk.org/results/dashboard/preferences/subscriptions/


More information about the test-report mailing list