|SUCCESS| pw129331 [PATCH] [v3] net/mlx5: fix RSS expansion inner bu
dpdklab at iol.unh.edu
dpdklab at iol.unh.edu
Thu Jul 6 11:43:14 CEST 2023
Test-Label: iol-abi-testing
Test-Status: SUCCESS
http://dpdk.org/patch/129331
_Testing PASS_
Submitter: Maayan Kashani <mkashani at nvidia.com>
Date: Thursday, July 06 2023 08:55:42
DPDK git baseline: Repo:dpdk
Branch: master
CommitID:a64a4564705d18d20d20cfa16c79e795b7bf0f1e
129331 --> testing pass
Test environment and result as below:
+------------------+----------+
| Environment | abi_test |
+==================+==========+
| CentOS Stream 8 | PASS |
+------------------+----------+
| openSUSE Leap 15 | PASS |
+------------------+----------+
| Debian Buster | PASS |
+------------------+----------+
| RHEL 7 | PASS |
+------------------+----------+
| Fedora 38 | PASS |
+------------------+----------+
| Fedora 37 | PASS |
+------------------+----------+
| Debian Bullseye | PASS |
+------------------+----------+
CentOS Stream 8
Kernel: 4.18.0-240.10.1.el8_3.x86_64
Compiler: gcc 8.4.1 20200928
openSUSE Leap 15
Kernel: 4.18.0-240.10.1.el8_3.x86_64
Compiler: gcc 7.5.0
Debian Buster
Kernel: 5.4.0-122-generic
Compiler: gcc 8.3.0-6
RHEL 7
Kernel: 4.18.0-240.10.1.el8_3.x86_64
Compiler: gcc 4.8.5 20150623 (Red Hat 4.8.5-44)
Fedora 38
Kernel: Depends on container host
Compiler: clang 16.0.3
Fedora 37
Kernel: Depends on container host system
Compiler: gcc 12.3.1
Debian Bullseye
Kernel: 5.4.0-122-generic
Compiler: gcc 10.2.1-6
To view detailed results, visit:
https://lab.dpdk.org/results/dashboard/patchsets/26995/
UNH-IOL DPDK Community Lab
To manage your email subscriptions, visit:
https://lab.dpdk.org/results/dashboard/preferences/subscriptions/
More information about the test-report
mailing list