|SUCCESS| pw129185 [PATCH] [v1] graph: fix graph model check in core

dpdklab at iol.unh.edu dpdklab at iol.unh.edu
Thu Jul 6 22:05:28 CEST 2023


Test-Label: iol-aarch-unit-testing
Test-Status: SUCCESS
http://dpdk.org/patch/129185

_Testing PASS_

Submitter: Zhirun Yan <zhirun.yan at intel.com>
Date: Monday, July 03 2023 07:29:19 
DPDK git baseline: Repo:dpdk
  Branch: master
  CommitID:a64a4564705d18d20d20cfa16c79e795b7bf0f1e

129185 --> testing pass

Test environment and result as below:

+-----------------------------+--------------+----------------+------------------------------+---------------------------+
|         Environment         | lpm_autotest | dpdk_unit_test | cryptodev_sw_snow3g_autotest | cryptodev_sw_zuc_autotest |
+=============================+==============+================+==============================+===========================+
| Ubuntu 20.04 ARM SVE        | PASS         | SKIPPED        | SKIPPED                      | SKIPPED                   |
+-----------------------------+--------------+----------------+------------------------------+---------------------------+
| (32-bit) ARM Ubuntu 20.04.4 | SKIPPED      | PASS           | SKIPPED                      | SKIPPED                   |
+-----------------------------+--------------+----------------+------------------------------+---------------------------+
| Debian 11                   | SKIPPED      | SKIPPED        | PASS                         | PASS                      |
+-----------------------------+--------------+----------------+------------------------------+---------------------------+


Ubuntu 20.04 ARM SVE
	Kernel: 5.4.0-80-generic
	Compiler: gcc 10.3.0 (Ubuntu 10.3.0-1ubuntu1~20.04)

(32-bit) ARM Ubuntu 20.04.4
	Kernel: 5.4.0-148-generic aarch64
	Compiler: gcc 9.4

Debian 11
	Kernel: Container Host Kernel
	Compiler: gcc 10.2.1

To view detailed results, visit:
https://lab.dpdk.org/results/dashboard/patchsets/26918/

UNH-IOL DPDK Community Lab

To manage your email subscriptions, visit: 
https://lab.dpdk.org/results/dashboard/preferences/subscriptions/


More information about the test-report mailing list