|SUCCESS| pw129345-129346 [PATCH] [v2,2/2] common/qat: change define

dpdklab at iol.unh.edu dpdklab at iol.unh.edu
Fri Jul 7 00:38:05 CEST 2023


Test-Label: iol-aarch-unit-testing
Test-Status: SUCCESS
http://dpdk.org/patch/129346

_Testing PASS_

Submitter: Brian Dooley <brian.dooley at intel.com>
Date: Thursday, July 06 2023 16:04:54 
DPDK git baseline: Repo:dpdk
  Branch: master
  CommitID:a64a4564705d18d20d20cfa16c79e795b7bf0f1e

129345-129346 --> testing pass

Test environment and result as below:

+-----------------------------+--------------+----------------+------------------------------+---------------------------+
|         Environment         | lpm_autotest | dpdk_unit_test | cryptodev_sw_snow3g_autotest | cryptodev_sw_zuc_autotest |
+=============================+==============+================+==============================+===========================+
| Ubuntu 20.04 ARM SVE        | PASS         | SKIPPED        | SKIPPED                      | SKIPPED                   |
+-----------------------------+--------------+----------------+------------------------------+---------------------------+
| (32-bit) ARM Ubuntu 20.04.4 | SKIPPED      | PASS           | SKIPPED                      | SKIPPED                   |
+-----------------------------+--------------+----------------+------------------------------+---------------------------+
| Debian 11                   | SKIPPED      | SKIPPED        | PASS                         | PASS                      |
+-----------------------------+--------------+----------------+------------------------------+---------------------------+


Ubuntu 20.04 ARM SVE
	Kernel: 5.4.0-80-generic
	Compiler: gcc 10.3.0 (Ubuntu 10.3.0-1ubuntu1~20.04)

(32-bit) ARM Ubuntu 20.04.4
	Kernel: 5.4.0-148-generic aarch64
	Compiler: gcc 9.4

Debian 11
	Kernel: Container Host Kernel
	Compiler: gcc 10.2.1

To view detailed results, visit:
https://lab.dpdk.org/results/dashboard/patchsets/27004/

UNH-IOL DPDK Community Lab

To manage your email subscriptions, visit: 
https://lab.dpdk.org/results/dashboard/preferences/subscriptions/


More information about the test-report mailing list