|SUCCESS| pw129371 [PATCH] net/hns3: fix non-zero weight for disable
dpdklab at iol.unh.edu
dpdklab at iol.unh.edu
Fri Jul 7 13:18:05 CEST 2023
Test-Label: iol-abi-testing
Test-Status: SUCCESS
http://dpdk.org/patch/129371
_Testing PASS_
Submitter: Dongdong Liu <liudongdong3 at huawei.com>
Date: Friday, July 07 2023 10:40:53
DPDK git baseline: Repo:dpdk
Branch: master
CommitID:5d41169b901858e657a8ae3c2dd445bbd8b5e7e5
129371 --> testing pass
Test environment and result as below:
+------------------+----------+
| Environment | abi_test |
+==================+==========+
| CentOS Stream 8 | PASS |
+------------------+----------+
| RHEL 7 | PASS |
+------------------+----------+
| openSUSE Leap 15 | PASS |
+------------------+----------+
CentOS Stream 8
Kernel: 4.18.0-240.10.1.el8_3.x86_64
Compiler: gcc 8.4.1 20200928
RHEL 7
Kernel: 4.18.0-240.10.1.el8_3.x86_64
Compiler: gcc 4.8.5 20150623 (Red Hat 4.8.5-44)
openSUSE Leap 15
Kernel: 4.18.0-240.10.1.el8_3.x86_64
Compiler: gcc 7.5.0
To view detailed results, visit:
https://lab.dpdk.org/results/dashboard/patchsets/27013/
UNH-IOL DPDK Community Lab
To manage your email subscriptions, visit:
https://lab.dpdk.org/results/dashboard/preferences/subscriptions/
More information about the test-report
mailing list