|SUCCESS| pw129403-129401 [PATCH] [v15,6/6] test/memarea: support du

dpdklab at iol.unh.edu dpdklab at iol.unh.edu
Sun Jul 9 15:53:56 CEST 2023


Test-Label: iol-abi-testing
Test-Status: SUCCESS
http://dpdk.org/patch/129401

_Testing PASS_

Submitter: Chengwen Feng <fengchengwen at huawei.com>
Date: Sunday, July 09 2023 13:00:41 
DPDK git baseline: Repo:dpdk
  Branch: master
  CommitID:623dc9364dc6a818799941cc26dc8f70feb2bb24

129403-129401 --> testing pass

Test environment and result as below:

+---------------+----------+
|  Environment  | abi_test |
+===============+==========+
| Debian Buster | PASS     |
+---------------+----------+
| Fedora 37     | PASS     |
+---------------+----------+
| Ubuntu 22.04  | PASS     |
+---------------+----------+
| RHEL 7        | PASS     |
+---------------+----------+


Debian Buster
	Kernel: 5.4.0-122-generic
	Compiler: gcc 8.3.0-6

Fedora 37
	Kernel: Depends on container host system
	Compiler: gcc 12.3.1

Ubuntu 22.04
	Kernel: 4.18.0-240.10.1.el8_3.x86_64
	Compiler: gcc 11.3.0

RHEL 7
	Kernel: 4.18.0-240.10.1.el8_3.x86_64
	Compiler: gcc 4.8.5 20150623 (Red Hat 4.8.5-44)

To view detailed results, visit:
https://lab.dpdk.org/results/dashboard/patchsets/27019/

UNH-IOL DPDK Community Lab

To manage your email subscriptions, visit: 
https://lab.dpdk.org/results/dashboard/preferences/subscriptions/


More information about the test-report mailing list