|SUCCESS| pw129204 [PATCH] [v2] graph: fix graph model check in core
dpdklab at iol.unh.edu
dpdklab at iol.unh.edu
Tue Jul 11 00:39:21 CEST 2023
Test-Label: iol-aarch64-compile-testing
Test-Status: SUCCESS
http://dpdk.org/patch/129204
_Testing PASS_
Submitter: Zhirun Yan <zhirun.yan at intel.com>
Date: Monday, July 03 2023 09:55:42
DPDK git baseline: Repo:dpdk
Branch: master
CommitID:a64a4564705d18d20d20cfa16c79e795b7bf0f1e
129204 --> testing pass
Test environment and result as below:
+--------------------------------------+--------------------+
| Environment | dpdk_meson_compile |
+======================================+====================+
| Debian 11 (Buster) (ARM) | PASS |
+--------------------------------------+--------------------+
| Ubuntu 20.04 ARM Clang Cross Compile | PASS |
+--------------------------------------+--------------------+
| Ubuntu 20.04 ARM GCC Cross Compile | PASS |
+--------------------------------------+--------------------+
| Ubuntu 20.04 ARM SVE | PASS |
+--------------------------------------+--------------------+
| Fedora 38 (ARM) | PASS |
+--------------------------------------+--------------------+
Debian 11 (Buster) (ARM)
Kernel: Container Host Kernel
Compiler: gcc 10.2.1
Ubuntu 20.04 ARM Clang Cross Compile
Kernel: 5.4.0-72-generic
Compiler: clang version 10.0.0-4ubuntu1
Ubuntu 20.04 ARM GCC Cross Compile
Kernel: 5.4.0-72-generic
Compiler: aarch64-linux-gnu-gcc (Ubuntu 9.3.0-17ubuntu1~20.04) 9.3.0
Ubuntu 20.04 ARM SVE
Kernel: 5.4.0-80-generic
Compiler: gcc 10.3.0 (Ubuntu 10.3.0-1ubuntu1~20.04)
Fedora 38 (ARM)
Kernel: Depends on container host
Compiler: gcc 13.1.1
To view detailed results, visit:
https://lab.dpdk.org/results/dashboard/patchsets/26929/
UNH-IOL DPDK Community Lab
To manage your email subscriptions, visit:
https://lab.dpdk.org/results/dashboard/preferences/subscriptions/
More information about the test-report
mailing list