|SUCCESS| pw129431 [PATCH] [v9] hash: add XOR32 hash function
dpdklab at iol.unh.edu
dpdklab at iol.unh.edu
Tue Jul 11 01:50:48 CEST 2023
Test-Label: iol-abi-testing
Test-Status: SUCCESS
http://dpdk.org/patch/129431
_Testing PASS_
Submitter: Bili Dong <qobilidop at gmail.com>
Date: Monday, July 10 2023 21:59:56
DPDK git baseline: Repo:dpdk
Branch: master
CommitID:623dc9364dc6a818799941cc26dc8f70feb2bb24
129431 --> testing pass
Test environment and result as below:
+------------------+----------+
| Environment | abi_test |
+==================+==========+
| openSUSE Leap 15 | PASS |
+------------------+----------+
| CentOS Stream 8 | PASS |
+------------------+----------+
| Fedora 38 | PASS |
+------------------+----------+
| RHEL8 | PASS |
+------------------+----------+
openSUSE Leap 15
Kernel: 4.18.0-240.10.1.el8_3.x86_64
Compiler: gcc 7.5.0
CentOS Stream 8
Kernel: 4.18.0-240.10.1.el8_3.x86_64
Compiler: gcc 8.4.1 20200928
Fedora 38
Kernel: Depends on container host
Compiler: clang 16.0.3
RHEL8
Kernel: 4.18.0-240.10.1.el8_3.x86_64
Compiler: gcc 8.3.1 20191121 (Red Hat 8.3.1-5)
To view detailed results, visit:
https://lab.dpdk.org/results/dashboard/patchsets/27030/
UNH-IOL DPDK Community Lab
To manage your email subscriptions, visit:
https://lab.dpdk.org/results/dashboard/preferences/subscriptions/
More information about the test-report
mailing list