|SUCCESS| pw129436 [PATCH] [v2] ipsec: fix NAT-T header length calcu

dpdklab at iol.unh.edu dpdklab at iol.unh.edu
Tue Jul 11 18:45:55 CEST 2023


Test-Label: iol-aarch-unit-testing
Test-Status: SUCCESS
http://dpdk.org/patch/129436

_Testing PASS_

Submitter: Xiao Liang <shaw.leon at gmail.com>
Date: Tuesday, July 11 2023 02:18:47 
DPDK git baseline: Repo:dpdk
  Branch: master
  CommitID:623dc9364dc6a818799941cc26dc8f70feb2bb24

129436 --> testing pass

Test environment and result as below:

+-----------------------------+--------------+----------------+---------------------------+------------------------------+
|         Environment         | lpm_autotest | dpdk_unit_test | cryptodev_sw_zuc_autotest | cryptodev_sw_snow3g_autotest |
+=============================+==============+================+===========================+==============================+
| Ubuntu 20.04 ARM SVE        | PASS         | SKIPPED        | SKIPPED                   | SKIPPED                      |
+-----------------------------+--------------+----------------+---------------------------+------------------------------+
| (32-bit) ARM Ubuntu 20.04.4 | SKIPPED      | PASS           | SKIPPED                   | SKIPPED                      |
+-----------------------------+--------------+----------------+---------------------------+------------------------------+
| Debian 11                   | SKIPPED      | SKIPPED        | PASS                      | PASS                         |
+-----------------------------+--------------+----------------+---------------------------+------------------------------+


Ubuntu 20.04 ARM SVE
	Kernel: 5.4.0-80-generic
	Compiler: gcc 10.3.0 (Ubuntu 10.3.0-1ubuntu1~20.04)

(32-bit) ARM Ubuntu 20.04.4
	Kernel: 5.4.0-148-generic aarch64
	Compiler: gcc 9.4

Debian 11
	Kernel: Container Host Kernel
	Compiler: gcc 10.2.1

To view detailed results, visit:
https://lab.dpdk.org/results/dashboard/patchsets/27035/

UNH-IOL DPDK Community Lab

To manage your email subscriptions, visit: 
https://lab.dpdk.org/results/dashboard/preferences/subscriptions/


More information about the test-report mailing list