|SUCCESS| [GIT MASTER] d75b66ad1cf8b9c0a14020a4cd9ddcd34dea924b

dpdklab at iol.unh.edu dpdklab at iol.unh.edu
Tue Jul 11 20:22:13 CEST 2023


_Testing PASS_

Branch: tags/v22.11

d75b66ad1cf8b9c0a14020a4cd9ddcd34dea924b --> testing pass

Test environment and result as below:

+-----------------------------+----------------+---------------------------+--------------+
|         Environment         | dpdk_unit_test | cryptodev_sw_zuc_autotest | lpm_autotest |
+=============================+================+===========================+==============+
| (32-bit) ARM Ubuntu 20.04.4 | PASS           | SKIPPED                   | SKIPPED      |
+-----------------------------+----------------+---------------------------+--------------+
| Debian 11                   | SKIPPED        | PASS                      | SKIPPED      |
+-----------------------------+----------------+---------------------------+--------------+
| Ubuntu 20.04 ARM SVE        | SKIPPED        | SKIPPED                   | PASS         |
+-----------------------------+----------------+---------------------------+--------------+


(32-bit) ARM Ubuntu 20.04.4
	Kernel: 5.4.0-148-generic aarch64
	Compiler: gcc 9.4

Debian 11
	Kernel: Container Host Kernel
	Compiler: gcc 10.2.1

Ubuntu 20.04 ARM SVE
	Kernel: 5.4.0-80-generic
	Compiler: gcc 10.3.0 (Ubuntu 10.3.0-1ubuntu1~20.04)

To view detailed results, visit:
https://lab.dpdk.org/results/dashboard/tarballs/25446/

UNH-IOL DPDK Community Lab

To manage your email subscriptions, visit: 
https://lab.dpdk.org/results/dashboard/preferences/subscriptions/


More information about the test-report mailing list