|SUCCESS| pw129470-129471 [PATCH] [v6,2/2] test: add reassembly perf

dpdklab at iol.unh.edu dpdklab at iol.unh.edu
Tue Jul 11 20:54:21 CEST 2023


Test-Label: iol-abi-testing
Test-Status: SUCCESS
http://dpdk.org/patch/129471

_Testing PASS_

Submitter: Pavan Nikhilesh Bhagavatula <pbhagavatula at marvell.com>
Date: Tuesday, July 11 2023 16:52:22 
DPDK git baseline: Repo:dpdk
  Branch: master
  CommitID:623dc9364dc6a818799941cc26dc8f70feb2bb24

129470-129471 --> testing pass

Test environment and result as below:

+-------------+----------+
| Environment | abi_test |
+=============+==========+
| RHEL 7      | PASS     |
+-------------+----------+
| RHEL8       | PASS     |
+-------------+----------+
| Fedora 38   | PASS     |
+-------------+----------+


RHEL 7
	Kernel: 4.18.0-240.10.1.el8_3.x86_64
	Compiler: gcc 4.8.5 20150623 (Red Hat 4.8.5-44)

RHEL8
	Kernel: 4.18.0-240.10.1.el8_3.x86_64
	Compiler: gcc 8.3.1 20191121 (Red Hat 8.3.1-5)

Fedora 38
	Kernel: Depends on container host
	Compiler: gcc 13.1.1

To view detailed results, visit:
https://lab.dpdk.org/results/dashboard/patchsets/27045/

UNH-IOL DPDK Community Lab

To manage your email subscriptions, visit: 
https://lab.dpdk.org/results/dashboard/preferences/subscriptions/


More information about the test-report mailing list